BEGIN:VCALENDAR
BEGIN:VEVENT
SUMMARY:Virusse\, Secret Boyfriend\, Early Shinada\, Neuter\, Chucha\, Spe
 cial Guest [nycnoise]
DTSTART:20250524T000000Z
DTEND:20250524T010000Z
UID:97f2dc27-095b-483a-9ad9-9d6e0d91758c
CREATED:20260420T145333Z
DESCRIPTION:link to flyer\, i thiiink i've got the map pin right idk
LOCATION:newtown creek kingsland ave
END:VEVENT
END:VCALENDAR
