BEGIN:VCALENDAR
BEGIN:VEVENT
SUMMARY:Suroor\, Slic\, Mantrablu\, Dicqbeats [nycnoise]
DTSTART:20250524T000000Z
DTEND:20250524T010000Z
UID:6d5c3288-e6a6-4665-93dd-bbf79e9739c4
CREATED:20260420T145249Z
DESCRIPTION:7pm doors\, 🔄 air purifiers
LOCATION:broadway (1272 broadway\, brooklyn)
END:VEVENT
END:VCALENDAR
