BEGIN:VCALENDAR
BEGIN:VEVENT
SUMMARY:Governor's Fall Rave (aka Fuck Cuomo Party!): DV-i\, Elena Fortune
 \, Kenneth Takanami (DJ)\, Mt Saint Michael (DJ)\, Phantazn\, Cons\, SVET 
 [nycnoise]
DTSTART:20250525T023000Z
DTEND:20250525T033000Z
UID:6383d8a5-e620-4005-bfb7-bea7fe0b81c9
CREATED:20260420T145455Z
DESCRIPTION:"An event supporting: DREAM for NYC (Don&rsquo\;t Rank Evil An
 drew for Mayor)"\; title's "aka" is editorial enthusiasm lolol\, dream big
  &amp\; vote zohran &lt\;3
LOCATION:alphaville (140 wilson ave\, brooklyn)
END:VEVENT
END:VCALENDAR
