BEGIN:VCALENDAR
BEGIN:VEVENT
SUMMARY:Jonathan Gonzalez\, Keith Hennessy & Ishmael Houston-Jones\, Jenni
 fer Miller [nycnoise]
DTSTART:20250525T220000Z
DTEND:20250525T230000Z
UID:5d58d18c-fb53-4b9b-ace4-175d9c14cde2
CREATED:20260420T145448Z
DESCRIPTION:
LOCATION:weisacres (537 Broadway\, New York\, NY 10012)
END:VEVENT
END:VCALENDAR
