BEGIN:VCALENDAR
BEGIN:VEVENT
SUMMARY:Collective Scream presents A Benefit for Mayday Space: Strange Nei
 ghbors\, Plastic Baby Jesus\, Freyja\, Mikey Leão [nycnoise]
DTSTART:20250529T230000Z
DTEND:20250530T000000Z
UID:72f7c4d6-e2c3-44ce-a557-707d7c298a6d
CREATED:20260420T145412Z
DESCRIPTION:6pm doors
LOCATION:bridge & tunnel (15-35 Decatur St\, Ridgewood\, NY 11385)
END:VEVENT
END:VCALENDAR
