BEGIN:VCALENDAR
BEGIN:VEVENT
SUMMARY:Everything could be [a party]: Brandon López\, The Ghost Shepherd
 s\, Mike Taylor\, Ed Steck\, & more [nycnoise]
DTSTART:20250605T000000Z
DTEND:20250605T010000Z
UID:c8e9c803-9a16-4f6d-abf7-de21afc03fea
CREATED:20260420T145452Z
DESCRIPTION:free release for&nbsp\;ugly duckling presse fundraising editio
 n
LOCATION:francis kite club (40 loisaida ave\, manhattan)
END:VEVENT
END:VCALENDAR
