BEGIN:VCALENDAR
BEGIN:VEVENT
SUMMARY:Outdoor Horse Shrine\, Spate\, Mouths Agape [nycnoise]
DTSTART:20250607T190000Z
DTEND:20250607T200000Z
UID:097d3a0c-c069-4b26-b487-f3f4aacac970
CREATED:20260420T145609Z
DESCRIPTION:2:30pm doors\; flyer
LOCATION:[RIP] rabbit hole evergreen (513 Evergreen Ave\, Brooklyn\, NY 11
 221)
END:VEVENT
END:VCALENDAR
