BEGIN:VCALENDAR
BEGIN:VEVENT
SUMMARY:Ivana Dama\, Meesh Sara Fradkin + Adrianna Jasmine Svitak\, Tommy 
 Martinez [nycnoise]
DTSTART:20250531T233000Z
DTEND:20250601T003000Z
UID:62bc7582-c693-40ee-8346-a3a4c72ef208
CREATED:20260420T145356Z
DESCRIPTION:🇵🇸 PACBI
LOCATION:cutelab
END:VEVENT
END:VCALENDAR
