BEGIN:VCALENDAR
BEGIN:VEVENT
SUMMARY:Ben Goldberg's Invisible Guy (w/ Michael Coleman\, Hamir Atwal) [n
 ycnoise]
DTSTART:20250623T010000Z
DTEND:20250623T020000Z
UID:88a1eb68-8bc6-43ba-8e41-abb55f35e700
CREATED:20260420T145318Z
DESCRIPTION:small room\; arrive early &amp\; tell stefan i say hi!
LOCATION:big bar (75 E 7th St\, New York\, NY 10003)
END:VEVENT
END:VCALENDAR
