BEGIN:VCALENDAR
BEGIN:VEVENT
SUMMARY:BwO Presents New Music at the Art Park: Invisible Guy (Ben Goldber
 g\, Michael Coleman\, Hamir Atwal)\, Mike Pride Trio (w/ Brandon Lopez\, J
 on Elbaz)\, Drum Battle!!! (Pride vs. Atwal)\, & more [nycnoise]
DTSTART:20250628T200000Z
DTEND:20250628T210000Z
UID:a173be82-8c7d-4c32-9167-4b399636934e
CREATED:20260420T145543Z
DESCRIPTION:
LOCATION:first street green (33 E 1st St\, New York\, NY 10003)
END:VEVENT
END:VCALENDAR
