BEGIN:VCALENDAR
BEGIN:VEVENT
SUMMARY:Sorry Records: Junior M\, estro\, Nick Boyd [nycnoise]
DTSTART:20250526T020000Z
DTEND:20250526T030000Z
UID:48e72503-232f-4134-8e8a-1379e1c9a491
CREATED:20260420T145349Z
DESCRIPTION:🇵🇸 PACBI
LOCATION:bossa nova civic club (1271 myrtle ave\, brooklyn)
END:VEVENT
END:VCALENDAR
