BEGIN:VCALENDAR
BEGIN:VEVENT
SUMMARY:MEMORIAL DAZE: CLUB ADVISORY\, NoahG\, DJ-SUN\, Arielle Lana\, LeC
 amille [nycnoise]
DTSTART:20250527T020000Z
DTEND:20250527T030000Z
UID:b5d11706-26e3-42ce-afc5-51673de191c0
CREATED:20260420T145136Z
DESCRIPTION:🇵🇸 PACBI
LOCATION:bossa nova civic club (1271 myrtle ave\, brooklyn)
END:VEVENT
END:VCALENDAR
