BEGIN:VCALENDAR
BEGIN:VEVENT
SUMMARY:Audition & Rave Man present: Secret Guest\, KATA\, Akanbi\, Jetty 
 [nycnoise]
DTSTART:20250530T020000Z
DTEND:20250530T030000Z
UID:aa4578d1-a2b0-471b-8bb3-a704501f6e3c
CREATED:20260420T145424Z
DESCRIPTION:🇵🇸 PACBI
LOCATION:bossa nova civic club (1271 myrtle ave\, brooklyn)
END:VEVENT
END:VCALENDAR
