BEGIN:VCALENDAR
BEGIN:VEVENT
SUMMARY:Trü Skül 25: Plural\, Dvize\, JADALAREIGN\, Kimyon [nycnoise]
DTSTART:20250531T020000Z
DTEND:20250531T030000Z
UID:d23ee7af-9e58-41ea-b825-250e8d28686f
CREATED:20260420T145257Z
DESCRIPTION:🇵🇸 PACBI
LOCATION:bossa nova civic club (1271 myrtle ave\, brooklyn)
END:VEVENT
END:VCALENDAR
