BEGIN:VCALENDAR
BEGIN:VEVENT
SUMMARY:CUNTED: River Moon\, FASHION\, Shyboi [nycnoise]
DTSTART:20250601T020000Z
DTEND:20250601T030000Z
UID:49170092-1bc3-46b2-8853-4b1801823703
CREATED:20260420T145249Z
DESCRIPTION:🇵🇸 PACBI
LOCATION:bossa nova civic club (1271 myrtle ave\, brooklyn)
END:VEVENT
END:VCALENDAR
