BEGIN:VCALENDAR
BEGIN:VEVENT
SUMMARY:Office Hours (EP Release)\, Maya Keren [nycnoise]
DTSTART:20250607T230000Z
DTEND:20250608T000000Z
UID:c2065bba-01d7-4b3d-b93e-78f243d3b530
CREATED:20260420T145547Z
DESCRIPTION:🇵🇸 PACBI
LOCATION:brothers wash & dry laundromat (5420 nurge ave\, queens)
END:VEVENT
END:VCALENDAR
