BEGIN:VCALENDAR
BEGIN:VEVENT
SUMMARY:Telemetry presents TELEPORT: James Axon\, Telesforo\, Bare Naked\,
  & more [nycnoise]
DTSTART:20250527T230000Z
DTEND:20250528T000000Z
UID:771e882c-14e2-46d6-9a00-c1bfbf1dae77
CREATED:20260420T145551Z
DESCRIPTION:🇵🇸 PACBI
LOCATION:bossa nova civic club (1271 myrtle ave\, brooklyn)
END:VEVENT
END:VCALENDAR
