BEGIN:VCALENDAR
BEGIN:VEVENT
SUMMARY:Either/Or plays music of Benary\, Knight\, King\, Jenkins [nycnois
 e]
DTSTART:20250604T000000Z
DTEND:20250604T010000Z
UID:e0388088-6a9d-4638-810f-e061e2e3237a
CREATED:20260420T145540Z
DESCRIPTION:Either/Or: Jennifer Choi\, Kal Sugatski\, Margaret Lancaster\,
  Chris McIntyre\, Richard Carrick\, Russell Greenberg
LOCATION:church of st. luke & st. matthew (520 clinton ave\, brooklyn)
END:VEVENT
END:VCALENDAR
