BEGIN:VCALENDAR
BEGIN:VEVENT
SUMMARY:Contemporaneous Ensemble performs new works [nycnoise]
DTSTART:20250603T230000Z
DTEND:20250604T000000Z
UID:f9def1d2-cf00-4acf-a022-6029ce8d6a50
CREATED:20260420T145548Z
DESCRIPTION:
LOCATION:brooklyn art haus (24 Marcy Ave\, Brooklyn\, NY 11211)
END:VEVENT
END:VCALENDAR
