BEGIN:VCALENDAR
BEGIN:VEVENT
SUMMARY:Heavy Florals: Melissa Almaguer + Samantha Kochis\, Luke Stewart\,
  DJ Undisclosed Locations [nycnoise]
DTSTART:20250605T000000Z
DTEND:20250605T010000Z
UID:c0412f67-cd4d-4617-b1f9-0be4932fe8c9
CREATED:20260420T145540Z
DESCRIPTION:🇵🇸 PACBI +++ 7:30pm doors\, guest curated by Ariella Flo
 wers
LOCATION:sisters (900 fulton st.\, brooklyn)
END:VEVENT
END:VCALENDAR
