BEGIN:VCALENDAR
BEGIN:VEVENT
SUMMARY:Show Me The Body [plays new songs]\, Night #1/2 w/ Decept [nycnois
 e]
DTSTART:20250607T233000Z
DTEND:20250608T003000Z
UID:6fe941a8-43fd-4c8b-ab94-7ee917443807
CREATED:20260420T145447Z
DESCRIPTION:enter email at ticket link or call / text 929-600-7682‬ for 
 waitlist
LOCATION:night club 101 (101 avenue a\, manhattan)
END:VEVENT
END:VCALENDAR
