BEGIN:VCALENDAR
BEGIN:VEVENT
SUMMARY:Show Me The Body [plays new songs]\, Night #2/2 w/ Ferment [nycnoi
 se]
DTSTART:20250608T233000Z
DTEND:20250609T003000Z
UID:2f80de86-7e13-4648-b00f-1049a5cbdcc4
CREATED:20260420T145324Z
DESCRIPTION:enter email at ticket link or call / text 929-600-7682‬ for 
 waitlist
LOCATION:night club 101 (101 avenue a\, manhattan)
END:VEVENT
END:VCALENDAR
