BEGIN:VCALENDAR
BEGIN:VEVENT
SUMMARY:Umbral: Wendy Chinchilla Araya\, Carlo Costa\, Sabrina Salamone [n
 ycnoise]
DTSTART:20250608T000000Z
DTEND:20250608T010000Z
UID:a270ff83-473f-4bf0-b81e-329bd56689bb
CREATED:20260420T145406Z
DESCRIPTION:curated by Kenneth Jim&eacute\;nez
LOCATION:issue project room (22 boerum place\, brooklyn)
END:VEVENT
END:VCALENDAR
