BEGIN:VCALENDAR
BEGIN:VEVENT
SUMMARY:27th Annual MATA Festival\, Night #1/4 [nycnoise]
DTSTART:20250611T230000Z
DTEND:20250612T000000Z
UID:3a4d6246-bba5-44eb-84b4-8e15c6261e6f
CREATED:20260420T145450Z
DESCRIPTION:Sun Ra Arkestra\, FLUX Quartet\, Jessie Cox\, Sam Yulsman
LOCATION:issue project room (22 boerum place\, brooklyn)
END:VEVENT
END:VCALENDAR
