BEGIN:VCALENDAR
BEGIN:VEVENT
SUMMARY:27th Annual MATA Festival\, Night #2/4 [nycnoise]
DTSTART:20250612T230000Z
DTEND:20250613T000000Z
UID:2e8ce357-0932-4adc-9550-f1639e0eb070
CREATED:20260420T145417Z
DESCRIPTION:FLUX Quartet\, TROPOS\, RE:duo
LOCATION:issue project room (22 boerum place\, brooklyn)
END:VEVENT
END:VCALENDAR
