BEGIN:VCALENDAR
BEGIN:VEVENT
SUMMARY:27th Annual MATA Festival\, Night #3/4 [nycnoise]
DTSTART:20250613T230000Z
DTEND:20250614T000000Z
UID:2dcc58b0-ab19-4773-a93c-4ff6ffc54a55
CREATED:20260420T145355Z
DESCRIPTION:FLUX Quartet\, MATA Mavens
LOCATION:issue project room (22 boerum place\, brooklyn)
END:VEVENT
END:VCALENDAR
