BEGIN:VCALENDAR
BEGIN:VEVENT
SUMMARY:27th Annual MATA Festival\, Night #4/4 [nycnoise]
DTSTART:20250614T230000Z
DTEND:20250615T000000Z
UID:fe8b6c04-e634-4824-9fc2-ed6e973915de
CREATED:20260420T145137Z
DESCRIPTION:FLUX Quartet\, Ensemble LPR "led by Tito Mu&ntilde\;oz\, Marie
  Herrington\, Han Chen\, Erika Dohi\, Paul Kerekes\, Oshay LeGare"
LOCATION:issue project room (22 boerum place\, brooklyn)
END:VEVENT
END:VCALENDAR
