BEGIN:VCALENDAR
BEGIN:VEVENT
SUMMARY:Scenic Route Presents: FGS (Vinyl Release)\, Embaci\, Fernette\, S
 AP Mag DJs [nycnoise]
DTSTART:20250614T233000Z
DTEND:20250615T003000Z
UID:d184a9a1-0549-48b0-b832-9fb4e970199e
CREATED:20260420T145601Z
DESCRIPTION:
LOCATION:cassette (68-38 forest ave bsmt\, ridgewood)
END:VEVENT
END:VCALENDAR
