BEGIN:VCALENDAR
BEGIN:VEVENT
SUMMARY:The Stone Student Concerts: Dilated (Nathan Nakadegawa-Lee\, Franc
 isco De La Garza\, Colson Jimenez\, Josh Mathews\, Paul Sakai\, Celine Kan
 g) [nycnoise]
DTSTART:20250709T003000Z
DTEND:20250709T013000Z
UID:91fee90f-7887-4449-8035-c39bb7ff1315
CREATED:20260420T145328Z
DESCRIPTION:
LOCATION:stone (55 w. 13th st.\, manhattan)
END:VEVENT
END:VCALENDAR
