BEGIN:VCALENDAR
BEGIN:VEVENT
SUMMARY:Deakin\, Loren Connors\, The Whimbrels\, Henry Birdsey [nycnoise]
DTSTART:20250626T230000Z
DTEND:20250627T000000Z
UID:b1282ea1-9471-4f86-9dbc-e1628e125bac
CREATED:20260420T145450Z
DESCRIPTION:
LOCATION:broadway (1272 broadway\, brooklyn)
END:VEVENT
END:VCALENDAR
