BEGIN:VCALENDAR
BEGIN:VEVENT
SUMMARY:Movement Research: Marielys Burgos Meléndez\, Katherine Paola De 
 La Cruz\, Alexa West [nycnoise]
DTSTART:20250602T230000Z
DTEND:20250603T000000Z
UID:c7c5c83b-c759-45bb-958f-352c4237ed01
CREATED:20260420T145453Z
DESCRIPTION:
LOCATION:movement research at judson (55 washington sq south\, manhattan)
END:VEVENT
END:VCALENDAR
