BEGIN:VCALENDAR
BEGIN:VEVENT
SUMMARY:Movement Research: Juli Brandano\, Maho Ogawa\, Allí O Allá Proj
 ect [nycnoise]
DTSTART:20250609T230000Z
DTEND:20250610T000000Z
UID:bd5c6fc3-9278-4f2e-8d51-bb3d9eadb2b7
CREATED:20260420T145245Z
DESCRIPTION:
LOCATION:movement research at judson (55 washington sq south\, manhattan)
END:VEVENT
END:VCALENDAR
