BEGIN:VCALENDAR
BEGIN:VEVENT
SUMMARY:Movement Research: Daria Faïn\, Kat Sotelo\, Trishawna Woods [nyc
 noise]
DTSTART:20250616T230000Z
DTEND:20250617T000000Z
UID:f6ad3912-376c-41ea-bb12-4e90c190f901
CREATED:20260420T145335Z
DESCRIPTION:
LOCATION:movement research at judson (55 washington sq south\, manhattan)
END:VEVENT
END:VCALENDAR
