BEGIN:VCALENDAR
BEGIN:VEVENT
SUMMARY:June Arc (Album Release)\, Nate Wood fOUR [nycnoise]
DTSTART:20250614T230000Z
DTEND:20250615T000000Z
UID:d5c10b20-a998-4031-a8a8-82d13e341d56
CREATED:20260420T145453Z
DESCRIPTION:
LOCATION:public records' sound room (233 butler st.\, brooklyn)
END:VEVENT
END:VCALENDAR
