BEGIN:VCALENDAR
BEGIN:VEVENT
SUMMARY:Evening Air Exhibit Opening: Loren Connors [nycnoise]
DTSTART:20250531T210000Z
DTEND:20250531T220000Z
UID:0d60f38b-94cb-4660-a380-35688f9ccd27
CREATED:20260420T145301Z
DESCRIPTION:12pm gallery opening\, exhibit til june 28
LOCATION:blank forms (3d) (468 grand ave #3d\, brooklyn)
END:VEVENT
END:VCALENDAR
