BEGIN:VCALENDAR
BEGIN:VEVENT
SUMMARY:Mourning [A] BLKstar\, Fatboi Sharif\, Yaz Lancaster [nycnoise]
DTSTART:20250602T230000Z
DTEND:20250603T000000Z
UID:12137fbf-858c-44e3-9909-6d6effee6081
CREATED:20260420T145258Z
DESCRIPTION:
LOCATION:tv eye (1647 Weirfield St\, Ridgewood\, NY 11385)
END:VEVENT
END:VCALENDAR
