BEGIN:VCALENDAR
BEGIN:VEVENT
SUMMARY:Saint Vitus Presents: John Wiese\, Lana Del Rabies [nycnoise]
DTSTART:20250608T230000Z
DTEND:20250609T000000Z
UID:9279f7c1-6cf4-4d2d-8f8d-b00101d7be65
CREATED:20260420T145556Z
DESCRIPTION:
LOCATION:tv eye (1647 Weirfield St\, Ridgewood\, NY 11385)
END:VEVENT
END:VCALENDAR
