BEGIN:VCALENDAR
BEGIN:VEVENT
SUMMARY:A Celebration of Kenneth Anger: The Flushing Remonstrances live sc
 ores Anger Films\, Szandora LaVey\, Glitter Macabre\, PNK VLVT WTCH [nycno
 ise]
DTSTART:20250610T000000Z
DTEND:20250610T010000Z
UID:31af4f76-328b-4132-ad40-00cd5f5523fe
CREATED:20260420T145448Z
DESCRIPTION:7pm doors
LOCATION:tv eye (1647 Weirfield St\, Ridgewood\, NY 11385)
END:VEVENT
END:VCALENDAR
