BEGIN:VCALENDAR
BEGIN:VEVENT
SUMMARY:contrast attitude\, Physique\, The Dark\, Abism\, Decept [nycnoise
 ]
DTSTART:20250613T000000Z
DTEND:20250613T010000Z
UID:0beabd48-179a-466e-83e9-ef8d600eef9b
CREATED:20260420T145558Z
DESCRIPTION:7pm doors
LOCATION:tv eye (1647 Weirfield St\, Ridgewood\, NY 11385)
END:VEVENT
END:VCALENDAR
