BEGIN:VCALENDAR
BEGIN:VEVENT
SUMMARY:Pons\, Special Guest\, Channel Vessel [nycnoise]
DTSTART:20250623T003000Z
DTEND:20250623T013000Z
UID:f4c79436-1bf4-40d9-87e9-004757892cc0
CREATED:20260420T145204Z
DESCRIPTION:CV: Mark Bennett\, Deirdre Loyall\, Cara Moses\, Leo Didkovsky
LOCATION:tv eye (1647 Weirfield St\, Ridgewood\, NY 11385)
END:VEVENT
END:VCALENDAR
