BEGIN:VCALENDAR
BEGIN:VEVENT
SUMMARY:Otherlands Trio (Stephan Crump\, Darius Jones\, Eric McPherson) [n
 ycnoise]
DTSTART:20250604T010000Z
DTEND:20250604T020000Z
UID:45b31c23-8f0a-44f1-a627-8975005e6095
CREATED:20260420T145352Z
DESCRIPTION:
LOCATION:lunàtico (486 halsey st.\, brooklyn)
END:VEVENT
END:VCALENDAR
