BEGIN:VCALENDAR
BEGIN:VEVENT
SUMMARY:Tal Yahalom Mirror Image (w/ Ledah Finck\, Christopher Hoffman\, D
 avid Leon\, Rogerio Boccato) [nycnoise]
DTSTART:20250619T010000Z
DTEND:20250619T020000Z
UID:4d51c624-bfcb-446f-9069-c700b113d528
CREATED:20260420T145455Z
DESCRIPTION:
LOCATION:lunàtico (486 halsey st.\, brooklyn)
END:VEVENT
END:VCALENDAR
