BEGIN:VCALENDAR
BEGIN:VEVENT
SUMMARY:Miss Parker b2b Rage.inald\, BEAUXEAUXEAUX (Din. b2b yōsukeDj)\, 
 m.kim [nycnoise]
DTSTART:20250603T020000Z
DTEND:20250603T030000Z
UID:05e16315-0e08-4e56-84cd-b1c256748444
CREATED:20260420T145253Z
DESCRIPTION:🇵🇸 PACBI
LOCATION:bossa nova civic club (1271 myrtle ave\, brooklyn)
END:VEVENT
END:VCALENDAR
