BEGIN:VCALENDAR
BEGIN:VEVENT
SUMMARY:Synthicide: Pretty Privilege\, Junior M\, Andi [nycnoise]
DTSTART:20250606T020000Z
DTEND:20250606T030000Z
UID:dbb3c824-da30-4e1d-a593-ef34d2cfaf07
CREATED:20260420T145558Z
DESCRIPTION:🇵🇸 PACBI
LOCATION:bossa nova civic club (1271 myrtle ave\, brooklyn)
END:VEVENT
END:VCALENDAR
