BEGIN:VCALENDAR
BEGIN:VEVENT
SUMMARY:Juneteenth: Traxman\, DJ Manny\, DJ Spinn\, purp [nycnoise]
DTSTART:20250620T020000Z
DTEND:20250620T030000Z
UID:6bb50abb-3bc8-4d0a-a52e-5a05e04e9748
CREATED:20260420T145449Z
DESCRIPTION:🇵🇸 PACBI
LOCATION:bossa nova civic club (1271 myrtle ave\, brooklyn)
END:VEVENT
END:VCALENDAR
