BEGIN:VCALENDAR
BEGIN:VEVENT
SUMMARY:RNR x Black Techno Matters present LIBER8 NYC: Mike Dearborn\, DAI
 YAH\, STUKES [nycnoise]
DTSTART:20250621T020000Z
DTEND:20250621T030000Z
UID:94b6dd9c-d033-4f36-bf09-c726b7de56fe
CREATED:20260420T145540Z
DESCRIPTION:🇵🇸 PACBI
LOCATION:bossa nova civic club (1271 myrtle ave\, brooklyn)
END:VEVENT
END:VCALENDAR
