BEGIN:VCALENDAR
BEGIN:VEVENT
SUMMARY:TBA [nycnoise]
DTSTART:20250606T230000Z
DTEND:20250607T000000Z
UID:88b97395-02d0-4603-a942-de974ee4a434
CREATED:20260420T145243Z
DESCRIPTION:🇵🇸 PACBI +++ info asap
LOCATION:brothers wash & dry laundromat (5420 nurge ave\, queens)
END:VEVENT
END:VCALENDAR
