BEGIN:VCALENDAR
BEGIN:VEVENT
SUMMARY:Nick Dunston & Min Yoon\, Selendis Sebastian Alexander Johnson\, O
 rchid McRae [nycnoise]
DTSTART:20250610T230000Z
DTEND:20250611T000000Z
UID:0462def1-0030-4c62-bb83-15f0f291d5db
CREATED:20260420T145322Z
DESCRIPTION:🇵🇸 PACBI
LOCATION:brothers wash & dry laundromat (5420 nurge ave\, queens)
END:VEVENT
END:VCALENDAR
