BEGIN:VCALENDAR
BEGIN:VEVENT
SUMMARY:Jeff Pearring / Adam Lane / Shu Odamura / Paul Sakai\, Francesca H
 . / Caroline Morton / Nathan Chamberlain\, Ayumi Ishito / Trey Cregan / Ke
 vin Shea [nycnoise]
DTSTART:20250612T230000Z
DTEND:20250613T000000Z
UID:42a6f46f-9d1e-4fbd-96ad-966cac09b64e
CREATED:20260420T145332Z
DESCRIPTION:🇵🇸 PACBI
LOCATION:brothers wash & dry laundromat (5420 nurge ave\, queens)
END:VEVENT
END:VCALENDAR
