BEGIN:VCALENDAR
BEGIN:VEVENT
SUMMARY:Nancy Strong\, Joey Agresta\, Hugo Stanley + Band\, Ashley Koett [
 nycnoise]
DTSTART:20250620T230000Z
DTEND:20250621T000000Z
UID:1a9be80f-249d-41d2-b465-acf18c22009a
CREATED:20260420T145415Z
DESCRIPTION:🇵🇸 PACBI
LOCATION:brothers wash & dry laundromat (5420 nurge ave\, queens)
END:VEVENT
END:VCALENDAR
